BEGIN:VCALENDAR
VERSION:2.0
PRODID:-//Stratis iCal API//FR
CALSCALE:GREGORIAN
X-WR-CALNAME:Exposition "Astromouans"
BEGIN:VEVENT
UID:event-418
SUMMARY:Exposition "Astromouans"
DESCRIPTION:
DTSTAMP:20250721T083343Z
DTSTART:20250821T220000Z
DTEND:20250823T220000Z
STATUS:CONFIRMED
SEQUENCE:3
BEGIN:VALARM
TRIGGER:-PT30M
DESCRIPTION:Exposition "Astromouans"
ACTION:DISPLAY
END:VALARM
END:VEVENT
END:VCALENDAR